Package: GeDi Version: 1.3.0 Command: /Library/Frameworks/R.framework/Resources/bin/R CMD INSTALL GeDi StartedAt: 2025-02-19 15:38:13 -0500 (Wed, 19 Feb 2025) EndedAt: 2025-02-19 15:39:20 -0500 (Wed, 19 Feb 2025) EllapsedTime: 66.9 seconds RetCode: 0 Status: OK