Package: GateFinder Version: 1.27.0 Command: rm -rf GateFinder.buildbin-libdir && mkdir GateFinder.buildbin-libdir && E:\biocbuild\bbs-3.21-bioc\R\bin\R.exe CMD INSTALL --build --library=GateFinder.buildbin-libdir GateFinder_1.27.0.tar.gz StartedAt: 2025-02-19 07:29:00 -0500 (Wed, 19 Feb 2025) EndedAt: 2025-02-19 07:29:24 -0500 (Wed, 19 Feb 2025) EllapsedTime: 23.8 seconds RetCode: 0 Status: OK PackageFile: GateFinder_1.27.0.zip PackageFileSize: 867.1 KiB