Package: GateFinder Version: 1.27.0 Command: /Library/Frameworks/R.framework/Resources/bin/R CMD build --keep-empty-dirs --no-resave-data GateFinder StartedAt: 2025-02-18 16:43:42 -0500 (Tue, 18 Feb 2025) EndedAt: 2025-02-18 16:44:08 -0500 (Tue, 18 Feb 2025) EllapsedTime: 26.4 seconds RetCode: 0 Status: OK PackageFile: GateFinder_1.27.0.tar.gz PackageFileSize: 581.8 KiB