Package: GateFinder Version: 1.27.0 Command: /home/biocbuild/R/R/bin/R CMD build --keep-empty-dirs --no-resave-data GateFinder StartedAt: 2025-01-28 23:00:31 -0000 (Tue, 28 Jan 2025) EndedAt: 2025-01-28 23:00:55 -0000 (Tue, 28 Jan 2025) EllapsedTime: 24.0 seconds RetCode: 0 Status: OK PackageFile: GateFinder_1.27.0.tar.gz PackageFileSize: 578.1 KiB