Package: GWENA Version: 1.17.0 Command: rm -rf GWENA.buildbin-libdir && mkdir GWENA.buildbin-libdir && E:\biocbuild\bbs-3.21-bioc\R\bin\R.exe CMD INSTALL --build --library=GWENA.buildbin-libdir GWENA_1.17.0.tar.gz StartedAt: 2025-02-20 07:56:35 -0500 (Thu, 20 Feb 2025) EndedAt: 2025-02-20 07:57:28 -0500 (Thu, 20 Feb 2025) EllapsedTime: 52.8 seconds RetCode: 0 Status: OK PackageFile: GWENA_1.17.0.zip PackageFileSize: 4.203 MiB