Package: GWENA Version: 1.17.0 Command: /home/biocbuild/bbs-3.21-bioc/R/bin/R CMD build --keep-empty-dirs --no-resave-data GWENA StartedAt: 2025-02-19 17:34:17 -0500 (Wed, 19 Feb 2025) EndedAt: 2025-02-19 17:35:58 -0500 (Wed, 19 Feb 2025) EllapsedTime: 101.1 seconds RetCode: 0 Status: OK PackageFile: GWENA_1.17.0.tar.gz PackageFileSize: 4.781 MiB