Package: GWENA Version: 1.17.0 Command: /Library/Frameworks/R.framework/Resources/bin/R CMD INSTALL GWENA StartedAt: 2025-02-19 15:30:41 -0500 (Wed, 19 Feb 2025) EndedAt: 2025-02-19 15:31:29 -0500 (Wed, 19 Feb 2025) EllapsedTime: 47.3 seconds RetCode: 0 Status: OK