Package: GWENA Version: 1.17.0 Command: /Library/Frameworks/R.framework/Resources/bin/R CMD check --install=check:GWENA.install-out.txt --library=/Library/Frameworks/R.framework/Resources/library --no-vignettes --timings GWENA_1.17.0.tar.gz StartedAt: 2025-02-19 20:55:33 -0500 (Wed, 19 Feb 2025) EndedAt: 2025-02-19 21:04:41 -0500 (Wed, 19 Feb 2025) EllapsedTime: 548.1 seconds RetCode: 0 Status: WARNINGS CheckDir: GWENA.Rcheck Warnings: 2