Package: GWENA Version: 1.17.0 Command: /Library/Frameworks/R.framework/Resources/bin/R CMD build --keep-empty-dirs --no-resave-data GWENA StartedAt: 2025-02-19 16:56:46 -0500 (Wed, 19 Feb 2025) EndedAt: 2025-02-19 16:58:51 -0500 (Wed, 19 Feb 2025) EllapsedTime: 124.9 seconds RetCode: 0 Status: OK PackageFile: GWENA_1.17.0.tar.gz PackageFileSize: 4.676 MiB