Package: GWASTools Version: 1.53.0 Command: E:\biocbuild\bbs-3.21-bioc\R\bin\R.exe CMD check --no-multiarch --install=check:GWASTools.install-out.txt --library=E:\biocbuild\bbs-3.21-bioc\R\library --no-vignettes --timings GWASTools_1.53.0.tar.gz StartedAt: 2025-02-22 02:36:01 -0500 (Sat, 22 Feb 2025) EndedAt: 2025-02-22 02:42:13 -0500 (Sat, 22 Feb 2025) EllapsedTime: 372.0 seconds RetCode: 0 Status: OK CheckDir: GWASTools.Rcheck Warnings: 0