Package: GWASTools Version: 1.53.0 Command: chmod a+r GWASTools -R && E:\biocbuild\bbs-3.21-bioc\R\bin\R.exe CMD build --keep-empty-dirs --no-resave-data GWASTools StartedAt: 2025-02-21 19:50:56 -0500 (Fri, 21 Feb 2025) EndedAt: 2025-02-21 19:53:03 -0500 (Fri, 21 Feb 2025) EllapsedTime: 127.1 seconds RetCode: 0 Status: OK PackageFile: GWASTools_1.53.0.tar.gz PackageFileSize: 1.633 MiB