Package: GWASTools Version: 1.53.0 Command: rm -rf GWASTools.buildbin-libdir && mkdir GWASTools.buildbin-libdir && /Users/biocbuild/BBS/utils/build-universal.sh GWASTools_1.53.0.tar.gz /Library/Frameworks/R.framework/Resources/bin/R GWASTools.buildbin-libdir StartedAt: 2025-02-21 00:34:23 -0500 (Fri, 21 Feb 2025) EndedAt: 2025-02-21 00:35:02 -0500 (Fri, 21 Feb 2025) EllapsedTime: 39.2 seconds RetCode: 0 Status: OK PackageFile: GWASTools_1.53.0.tgz PackageFileSize: 3.11 MiB