Package: GWASTools Version: 1.53.0 Command: /Library/Frameworks/R.framework/Resources/bin/R CMD INSTALL GWASTools StartedAt: 2025-02-20 15:23:13 -0500 (Thu, 20 Feb 2025) EndedAt: 2025-02-20 15:23:22 -0500 (Thu, 20 Feb 2025) EllapsedTime: 9.3 seconds RetCode: 0 Status: OK