Package: GWASTools Version: 1.53.0 Command: /Library/Frameworks/R.framework/Resources/bin/R CMD build --keep-empty-dirs --no-resave-data GWASTools StartedAt: 2025-02-20 16:35:06 -0500 (Thu, 20 Feb 2025) EndedAt: 2025-02-20 16:35:29 -0500 (Thu, 20 Feb 2025) EllapsedTime: 23.2 seconds RetCode: 0 Status: OK PackageFile: GWASTools_1.53.0.tar.gz PackageFileSize: 1.938 MiB