Package: GWAS.BAYES Version: 1.17.0 Command: /Library/Frameworks/R.framework/Resources/bin/R CMD INSTALL GWAS.BAYES StartedAt: 2025-02-20 15:36:15 -0500 (Thu, 20 Feb 2025) EndedAt: 2025-02-20 15:36:24 -0500 (Thu, 20 Feb 2025) EllapsedTime: 9.3 seconds RetCode: 0 Status: OK