Package: GWAS.BAYES Version: 1.17.0 Command: /Library/Frameworks/R.framework/Resources/bin/R CMD build --keep-empty-dirs --no-resave-data GWAS.BAYES StartedAt: 2025-02-20 16:55:46 -0500 (Thu, 20 Feb 2025) EndedAt: 2025-02-20 16:58:50 -0500 (Thu, 20 Feb 2025) EllapsedTime: 183.7 seconds RetCode: 0 Status: OK PackageFile: GWAS.BAYES_1.17.0.tar.gz PackageFileSize: 1.346 MiB