Package: GWAS.BAYES Version: 1.17.0 Command: /home/biocbuild/R/R/bin/R CMD INSTALL GWAS.BAYES StartedAt: 2025-01-29 20:24:12 -0000 (Wed, 29 Jan 2025) EndedAt: 2025-01-29 20:24:20 -0000 (Wed, 29 Jan 2025) EllapsedTime: 7.4 seconds RetCode: 0 Status: OK