Package: GUIDEseq Version: 1.38.0 Command: /home/biocbuild/R/R/bin/R CMD INSTALL GUIDEseq StartedAt: 2025-10-13 21:09:50 -0000 (Mon, 13 Oct 2025) EndedAt: 2025-10-13 21:11:04 -0000 (Mon, 13 Oct 2025) EllapsedTime: 74.2 seconds RetCode: 0 Status: OK