Package: GSgalgoR Version: 1.17.0 Command: chmod a+r GSgalgoR -R && E:\biocbuild\bbs-3.21-bioc\R\bin\R.exe CMD build --keep-empty-dirs --no-resave-data GSgalgoR StartedAt: 2025-02-20 19:10:46 -0500 (Thu, 20 Feb 2025) EndedAt: 2025-02-20 19:13:19 -0500 (Thu, 20 Feb 2025) EllapsedTime: 152.3 seconds RetCode: 0 Status: OK PackageFile: GSgalgoR_1.17.0.tar.gz PackageFileSize: 2.222 MiB