Package: GSgalgoR Version: 1.17.0 Command: /home/biocbuild/bbs-3.21-bioc/R/bin/R CMD INSTALL GSgalgoR StartedAt: 2025-02-20 15:09:50 -0500 (Thu, 20 Feb 2025) EndedAt: 2025-02-20 15:09:52 -0500 (Thu, 20 Feb 2025) EllapsedTime: 1.9 seconds RetCode: 0 Status: OK