Package: GSgalgoR Version: 1.17.0 Command: /home/biocbuild/bbs-3.21-bioc/R/bin/R CMD build --keep-empty-dirs --no-resave-data GSgalgoR StartedAt: 2025-02-20 17:42:07 -0500 (Thu, 20 Feb 2025) EndedAt: 2025-02-20 17:43:38 -0500 (Thu, 20 Feb 2025) EllapsedTime: 91.1 seconds RetCode: 0 Status: OK PackageFile: GSgalgoR_1.17.0.tar.gz PackageFileSize: 2.801 MiB