Package: GSgalgoR Version: 1.17.0 Command: rm -rf GSgalgoR.buildbin-libdir && mkdir GSgalgoR.buildbin-libdir && /Users/biocbuild/BBS/utils/build-universal.sh GSgalgoR_1.17.0.tar.gz /Library/Frameworks/R.framework/Resources/bin/R GSgalgoR.buildbin-libdir StartedAt: 2025-02-20 22:21:24 -0500 (Thu, 20 Feb 2025) EndedAt: 2025-02-20 22:21:26 -0500 (Thu, 20 Feb 2025) EllapsedTime: 2.0 seconds RetCode: 0 Status: OK PackageFile: GSgalgoR_1.17.0.tgz PackageFileSize: 2.917 MiB