Package: GSVA Version: 2.1.6 Command: E:\biocbuild\bbs-3.21-bioc\R\bin\R.exe CMD check --no-multiarch --install=check:GSVA.install-out.txt --library=E:\biocbuild\bbs-3.21-bioc\R\library --no-vignettes --timings GSVA_2.1.6.tar.gz StartedAt: 2025-02-21 02:05:25 -0500 (Fri, 21 Feb 2025) EndedAt: 2025-02-21 02:17:55 -0500 (Fri, 21 Feb 2025) EllapsedTime: 750.2 seconds RetCode: 0 Status: OK CheckDir: GSVA.Rcheck Warnings: 0