Package: GSVA Version: 2.1.6 Command: chmod a+r GSVA -R && E:\biocbuild\bbs-3.21-bioc\R\bin\R.exe CMD build --keep-empty-dirs --no-resave-data GSVA StartedAt: 2025-02-20 19:11:22 -0500 (Thu, 20 Feb 2025) EndedAt: 2025-02-20 19:15:23 -0500 (Thu, 20 Feb 2025) EllapsedTime: 241.5 seconds RetCode: 0 Status: OK PackageFile: GSVA_2.1.6.tar.gz PackageFileSize: 2.134 MiB