Package: GSVA Version: 2.1.6 Command: /Library/Frameworks/R.framework/Resources/bin/R CMD check --install=check:GSVA.install-out.txt --library=/Library/Frameworks/R.framework/Resources/library --no-vignettes --timings GSVA_2.1.6.tar.gz StartedAt: 2025-02-20 20:52:51 -0500 (Thu, 20 Feb 2025) EndedAt: 2025-02-20 21:03:45 -0500 (Thu, 20 Feb 2025) EllapsedTime: 653.7 seconds RetCode: 0 Status: OK CheckDir: GSVA.Rcheck Warnings: 0