Package: GSVA Version: 2.1.6 Command: rm -rf GSVA.buildbin-libdir && mkdir GSVA.buildbin-libdir && /Users/biocbuild/BBS/utils/build-universal.sh GSVA_2.1.6.tar.gz /Library/Frameworks/R.framework/Resources/bin/R GSVA.buildbin-libdir StartedAt: 2025-02-20 00:35:36 -0500 (Thu, 20 Feb 2025) EndedAt: 2025-02-20 00:36:36 -0500 (Thu, 20 Feb 2025) EllapsedTime: 60.1 seconds RetCode: 0 Status: OK PackageFile: GSVA_2.1.6.tgz PackageFileSize: 2.261 MiB