Package: GSReg Version: 1.41.0 Command: E:\biocbuild\bbs-3.21-bioc\R\bin\R.exe CMD INSTALL GSReg StartedAt: 2025-02-21 17:16:03 -0500 (Fri, 21 Feb 2025) EndedAt: 2025-02-21 17:16:52 -0500 (Fri, 21 Feb 2025) EllapsedTime: 49.3 seconds RetCode: 0 Status: OK