Package: GSReg Version: 1.41.0 Command: chmod a+r GSReg -R && E:\biocbuild\bbs-3.21-bioc\R\bin\R.exe CMD build --keep-empty-dirs --no-resave-data GSReg StartedAt: 2025-02-20 19:10:59 -0500 (Thu, 20 Feb 2025) EndedAt: 2025-02-20 19:13:12 -0500 (Thu, 20 Feb 2025) EllapsedTime: 133.3 seconds RetCode: 0 Status: OK PackageFile: GSReg_1.41.0.tar.gz PackageFileSize: 467.1 KiB