Package: GSReg Version: 1.41.0 Command: /home/biocbuild/bbs-3.21-bioc/R/bin/R CMD build --keep-empty-dirs --no-resave-data GSReg StartedAt: 2025-02-21 18:03:01 -0500 (Fri, 21 Feb 2025) EndedAt: 2025-02-21 18:04:30 -0500 (Fri, 21 Feb 2025) EllapsedTime: 88.1 seconds RetCode: 0 Status: OK PackageFile: GSReg_1.41.0.tar.gz PackageFileSize: 466.4 KiB