Package: GSReg Version: 1.41.0 Command: /Library/Frameworks/R.framework/Resources/bin/R CMD check --install=check:GSReg.install-out.txt --library=/Library/Frameworks/R.framework/Resources/library --no-vignettes --timings GSReg_1.41.0.tar.gz StartedAt: 2025-02-21 20:52:58 -0500 (Fri, 21 Feb 2025) EndedAt: 2025-02-21 20:56:04 -0500 (Fri, 21 Feb 2025) EllapsedTime: 185.2 seconds RetCode: 0 Status: WARNINGS CheckDir: GSReg.Rcheck Warnings: 3