Package: GSRI Version: 2.55.0 Command: chmod a+r GSRI -R && E:\biocbuild\bbs-3.21-bioc\R\bin\R.exe CMD build --keep-empty-dirs --no-resave-data GSRI StartedAt: 2025-02-20 19:11:10 -0500 (Thu, 20 Feb 2025) EndedAt: 2025-02-20 19:12:18 -0500 (Thu, 20 Feb 2025) EllapsedTime: 68.4 seconds RetCode: 0 Status: OK PackageFile: GSRI_2.55.0.tar.gz PackageFileSize: 208 KiB