Package: GSRI Version: 2.55.0 Command: rm -rf GSRI.buildbin-libdir && mkdir GSRI.buildbin-libdir && E:\biocbuild\bbs-3.21-bioc\R\bin\R.exe CMD INSTALL --build --library=GSRI.buildbin-libdir GSRI_2.55.0.tar.gz StartedAt: 2025-02-21 08:15:12 -0500 (Fri, 21 Feb 2025) EndedAt: 2025-02-21 08:15:46 -0500 (Fri, 21 Feb 2025) EllapsedTime: 33.5 seconds RetCode: 0 Status: OK PackageFile: GSRI_2.55.0.zip PackageFileSize: 543.5 KiB