Package: GSRI Version: 2.55.0 Command: /Library/Frameworks/R.framework/Resources/bin/R CMD INSTALL GSRI StartedAt: 2025-02-19 15:31:21 -0500 (Wed, 19 Feb 2025) EndedAt: 2025-02-19 15:31:49 -0500 (Wed, 19 Feb 2025) EllapsedTime: 27.7 seconds RetCode: 0 Status: OK