Package: GSEAmining Version: 1.17.0 Command: E:\biocbuild\bbs-3.21-bioc\R\bin\R.exe CMD check --no-multiarch --install=check:GSEAmining.install-out.txt --library=E:\biocbuild\bbs-3.21-bioc\R\library --no-vignettes --timings GSEAmining_1.17.0.tar.gz StartedAt: 2025-02-21 02:03:27 -0500 (Fri, 21 Feb 2025) EndedAt: 2025-02-21 02:05:29 -0500 (Fri, 21 Feb 2025) EllapsedTime: 122.0 seconds RetCode: 0 Status: OK CheckDir: GSEAmining.Rcheck Warnings: 0