Package: GSEAmining Version: 1.17.0 Command: rm -rf GSEAmining.buildbin-libdir && mkdir GSEAmining.buildbin-libdir && E:\biocbuild\bbs-3.21-bioc\R\bin\R.exe CMD INSTALL --build --library=GSEAmining.buildbin-libdir GSEAmining_1.17.0.tar.gz StartedAt: 2025-02-21 08:15:06 -0500 (Fri, 21 Feb 2025) EndedAt: 2025-02-21 08:15:24 -0500 (Fri, 21 Feb 2025) EllapsedTime: 18.1 seconds RetCode: 0 Status: OK PackageFile: GSEAmining_1.17.0.zip PackageFileSize: 665.8 KiB