Package: GSEAmining Version: 1.17.0 Command: /home/biocbuild/bbs-3.21-bioc/R/bin/R CMD check --install=check:GSEAmining.install-out.txt --library=/home/biocbuild/bbs-3.21-bioc/R/site-library --timings GSEAmining_1.17.0.tar.gz StartedAt: 2025-02-20 22:33:14 -0500 (Thu, 20 Feb 2025) EndedAt: 2025-02-20 22:35:38 -0500 (Thu, 20 Feb 2025) EllapsedTime: 143.2 seconds RetCode: 0 Status: OK CheckDir: GSEAmining.Rcheck Warnings: 0