Package: GSEAmining Version: 1.17.0 Command: /home/biocbuild/bbs-3.21-bioc/R/bin/R CMD build --keep-empty-dirs --no-resave-data GSEAmining StartedAt: 2025-02-20 17:42:01 -0500 (Thu, 20 Feb 2025) EndedAt: 2025-02-20 17:42:51 -0500 (Thu, 20 Feb 2025) EllapsedTime: 50.0 seconds RetCode: 0 Status: OK PackageFile: GSEAmining_1.17.0.tar.gz PackageFileSize: 2.815 MiB