Package: GSEAlm Version: 1.67.0 Command: /home/biocbuild/bbs-3.21-bioc/R/bin/R CMD INSTALL GSEAlm StartedAt: 2025-02-20 15:23:06 -0500 (Thu, 20 Feb 2025) EndedAt: 2025-02-20 15:23:09 -0500 (Thu, 20 Feb 2025) EllapsedTime: 3.0 seconds RetCode: 0 Status: OK