Package: GSEAlm Version: 1.67.0 Command: /Library/Frameworks/R.framework/Resources/bin/R CMD build --keep-empty-dirs --no-resave-data GSEAlm StartedAt: 2025-02-19 16:55:05 -0500 (Wed, 19 Feb 2025) EndedAt: 2025-02-19 16:55:56 -0500 (Wed, 19 Feb 2025) EllapsedTime: 51.4 seconds RetCode: 0 Status: OK PackageFile: GSEAlm_1.67.0.tar.gz PackageFileSize: 1.245 MiB