Package: GSEABenchmarkeR Version: 1.27.0 Command: /Library/Frameworks/R.framework/Resources/bin/R CMD build --keep-empty-dirs --no-resave-data GSEABenchmarkeR StartedAt: 2025-02-20 16:54:39 -0500 (Thu, 20 Feb 2025) EndedAt: 2025-02-20 16:57:08 -0500 (Thu, 20 Feb 2025) EllapsedTime: 149.2 seconds RetCode: 0 Status: OK PackageFile: GSEABenchmarkeR_1.27.0.tar.gz PackageFileSize: 569.3 KiB