Package: GSEABenchmarkeR Version: 1.27.0 Command: /Library/Frameworks/R.framework/Resources/bin/R CMD build --keep-empty-dirs --no-resave-data GSEABenchmarkeR StartedAt: 2025-02-20 16:33:52 -0500 (Thu, 20 Feb 2025) EndedAt: 2025-02-20 16:35:03 -0500 (Thu, 20 Feb 2025) EllapsedTime: 70.8 seconds RetCode: 0 Status: OK PackageFile: GSEABenchmarkeR_1.27.0.tar.gz PackageFileSize: 568.3 KiB