Package: GSEABase Version: 1.69.1 Command: chmod a+r GSEABase -R && E:\biocbuild\bbs-3.21-bioc\R\bin\R.exe CMD build --keep-empty-dirs --no-resave-data GSEABase StartedAt: 2025-02-19 19:08:12 -0500 (Wed, 19 Feb 2025) EndedAt: 2025-02-19 19:10:03 -0500 (Wed, 19 Feb 2025) EllapsedTime: 110.4 seconds RetCode: 0 Status: OK PackageFile: GSEABase_1.69.1.tar.gz PackageFileSize: 292.8 KiB