Package: GSEABase Version: 1.69.1 Command: rm -rf GSEABase.buildbin-libdir && mkdir GSEABase.buildbin-libdir && E:\biocbuild\bbs-3.21-bioc\R\bin\R.exe CMD INSTALL --build --library=GSEABase.buildbin-libdir GSEABase_1.69.1.tar.gz StartedAt: 2025-02-20 07:56:02 -0500 (Thu, 20 Feb 2025) EndedAt: 2025-02-20 07:57:39 -0500 (Thu, 20 Feb 2025) EllapsedTime: 97.2 seconds RetCode: 0 Status: OK PackageFile: GSEABase_1.69.1.zip PackageFileSize: 1023 KiB