Package: GSEABase Version: 1.69.1 Command: /home/biocbuild/bbs-3.21-bioc/R/bin/R CMD INSTALL GSEABase StartedAt: 2025-02-20 15:39:46 -0500 (Thu, 20 Feb 2025) EndedAt: 2025-02-20 15:40:04 -0500 (Thu, 20 Feb 2025) EllapsedTime: 17.9 seconds RetCode: 0 Status: OK