Package: GSEABase Version: 1.69.1 Command: /home/biocbuild/bbs-3.21-bioc/R/bin/R CMD check --install=check:GSEABase.install-out.txt --library=/home/biocbuild/bbs-3.21-bioc/R/site-library --timings GSEABase_1.69.1.tar.gz StartedAt: 2025-02-19 22:53:25 -0500 (Wed, 19 Feb 2025) EndedAt: 2025-02-19 22:57:05 -0500 (Wed, 19 Feb 2025) EllapsedTime: 220.4 seconds RetCode: 0 Status: OK CheckDir: GSEABase.Rcheck Warnings: 0