Package: GSEABase Version: 1.69.1 Command: /home/biocbuild/bbs-3.21-bioc/R/bin/R CMD build --keep-empty-dirs --no-resave-data GSEABase StartedAt: 2025-02-20 17:41:50 -0500 (Thu, 20 Feb 2025) EndedAt: 2025-02-20 17:42:21 -0500 (Thu, 20 Feb 2025) EllapsedTime: 31.0 seconds RetCode: 1 Status: ERROR PackageFile: None PackageFileSize: NA