Package: GSEABase Version: 1.69.1 Command: /Library/Frameworks/R.framework/Resources/bin/R CMD INSTALL GSEABase StartedAt: 2025-02-19 15:16:09 -0500 (Wed, 19 Feb 2025) EndedAt: 2025-02-19 15:16:34 -0500 (Wed, 19 Feb 2025) EllapsedTime: 24.2 seconds RetCode: 0 Status: OK