Package: GSEABase Version: 1.69.1 Command: /Library/Frameworks/R.framework/Resources/bin/R CMD build --keep-empty-dirs --no-resave-data GSEABase StartedAt: 2025-02-19 16:54:59 -0500 (Wed, 19 Feb 2025) EndedAt: 2025-02-19 16:56:19 -0500 (Wed, 19 Feb 2025) EllapsedTime: 79.8 seconds RetCode: 0 Status: OK PackageFile: GSEABase_1.69.1.tar.gz PackageFileSize: 292.5 KiB