Package: GSCA Version: 2.37.0 Command: /home/biocbuild/bbs-3.21-bioc/R/bin/R CMD check --install=check:GSCA.install-out.txt --library=/home/biocbuild/bbs-3.21-bioc/R/site-library --timings GSCA_2.37.0.tar.gz StartedAt: 2025-02-19 22:52:37 -0500 (Wed, 19 Feb 2025) EndedAt: 2025-02-19 22:55:23 -0500 (Wed, 19 Feb 2025) EllapsedTime: 165.2 seconds RetCode: 0 Status: OK CheckDir: GSCA.Rcheck Warnings: 0