Package: GSCA Version: 2.37.0 Command: /Library/Frameworks/R.framework/Resources/bin/R CMD check --install=check:GSCA.install-out.txt --library=/Library/Frameworks/R.framework/Resources/library --no-vignettes --timings GSCA_2.37.0.tar.gz StartedAt: 2025-02-19 20:52:03 -0500 (Wed, 19 Feb 2025) EndedAt: 2025-02-19 20:54:53 -0500 (Wed, 19 Feb 2025) EllapsedTime: 170.1 seconds RetCode: 0 Status: OK CheckDir: GSCA.Rcheck Warnings: 0